{
 "currentVersion": 10.91,
 "serviceDescription": "GRCA/GRCA_DTM",
 "name": "GRCA/GRCA_DTM",
 "description": "",
 "extent": {
  "xmin": 682000,
  "ymin": 4862276.5,
  "xmax": 737000,
  "ymax": 4897000,
  "spatialReference": {
   "wkid": 2150,
   "latestWkid": 2958,
   "vcsWkid": 9245,
   "latestVcsWkid": 9245
  }
 },
 "initialExtent": {
  "xmin": 682000,
  "ymin": 4862276.5,
  "xmax": 737000,
  "ymax": 4897000,
  "spatialReference": {
   "wkid": 2150,
   "latestWkid": 2958,
   "vcsWkid": 9245,
   "latestVcsWkid": 9245
  }
 },
 "fullExtent": {
  "xmin": 682000,
  "ymin": 4862276.5,
  "xmax": 737000,
  "ymax": 4897000,
  "spatialReference": {
   "wkid": 2150,
   "latestWkid": 2958,
   "vcsWkid": 9245,
   "latestVcsWkid": 9245
  }
 },
 "heightModelInfo": {
  "heightModel": "gravity_related_height",
  "vertCRS": "CGVD2013_CGG2013a_height",
  "heightUnit": "meter"
 },
 "hasMultidimensions": false,
 "pixelSizeX": 0.5,
 "pixelSizeY": 0.5,
 "datasetFormat": "TIFF",
 "uncompressedSize": 30556680000,
 "blockWidth": 128,
 "blockHeight": 128,
 "compressionType": "LZW",
 "bandNames": [
  "Band_1"
 ],
 "allowCopy": true,
 "allowAnalysis": true,
 "bandCount": 1,
 "noDataValue": -3.4028230607370965E38,
 "noDataValues": [
  -3.4028230607370965E38
 ],
 "pixelType": "F32",
 "minPixelSize": 0,
 "maxPixelSize": 0,
 "copyrightText": "",
 "serviceDataType": "esriImageServiceDataTypeGeneric",
 "serviceSourceType": "esriImageServiceSourceTypeDataset",
 "minValues": [],
 "maxValues": [],
 "meanValues": [],
 "stdvValues": [],
 "objectIdField": "",
 "fields": [],
 "capabilities": "Image,Metadata,Mensuration",
 "defaultMosaicMethod": "Center",
 "allowedMosaicMethods": "",
 "sortField": "",
 "sortValue": null,
 "sortAscending": true,
 "mosaicOperator": "First",
 "defaultCompressionQuality": 75,
 "defaultResamplingMethod": "Bilinear",
 "maxImageHeight": 4100,
 "maxImageWidth": 15000,
 "allowRasterFunction": true,
 "rasterFunctionInfos": [
  {
   "name": "None",
   "description": "",
   "help": ""
  }
 ],
 "rasterTypeInfos": [
  {
   "name": "Raster Dataset",
   "description": "Supports all ArcGIS Raster Datasets",
   "help": ""
  }
 ],
 "mensurationCapabilities": "Basic",
 "hasHistograms": false,
 "hasColormap": false,
 "hasRasterAttributeTable": false,
 "minScale": 0,
 "maxScale": 0,
 "exportTilesAllowed": false,
 "supportsStatistics": false,
 "supportsAdvancedQueries": false,
 "editFieldsInfo": null,
 "ownershipBasedAccessControlForRasters": null,
 "allowComputeTiePoints": false,
 "useStandardizedQueries": true,
 "advancedQueryCapabilities": {
  "useStandardizedQueries": true,
  "supportsStatistics": false,
  "supportsOrderBy": false,
  "supportsDistinct": false,
  "supportsPagination": false
 },
 "spatialReference": {
  "wkid": 2150,
  "latestWkid": 2958,
  "vcsWkid": 9245,
  "latestVcsWkid": 9245
 }
}
