{
 "currentVersion": 10.91,
 "serviceDescription": "GRCA/GRCA_SCOOP_2023",
 "name": "GRCA/GRCA_SCOOP_2023",
 "description": "",
 "extent": {
  "xmin": 681999.9376814077,
  "ymin": 4860999.938152172,
  "xmax": 736999.9377326304,
  "ymax": 4896999.938185699,
  "spatialReference": {
   "wkid": 2150,
   "latestWkid": 2958
  }
 },
 "initialExtent": {
  "xmin": 681999.9376814077,
  "ymin": 4860999.938152172,
  "xmax": 736999.9377326304,
  "ymax": 4896999.938185699,
  "spatialReference": {
   "wkid": 2150,
   "latestWkid": 2958
  }
 },
 "fullExtent": {
  "xmin": 681999.9376814077,
  "ymin": 4860999.938152172,
  "xmax": 736999.9377326304,
  "ymax": 4896999.938185699,
  "spatialReference": {
   "wkid": 2150,
   "latestWkid": 2958
  }
 },
 "hasMultidimensions": false,
 "pixelSizeX": 0.1600000001490116,
 "pixelSizeY": 0.1600000001490116,
 "datasetFormat": "TIFF",
 "uncompressedSize": 232031250000,
 "blockWidth": 128,
 "blockHeight": 128,
 "compressionType": "LZW",
 "bandNames": [
  "Band_1",
  "Band_2",
  "Band_3"
 ],
 "allowCopy": true,
 "allowAnalysis": true,
 "bandCount": 3,
 "noDataValue": 256,
 "noDataValues": [
  256,
  256,
  256
 ],
 "pixelType": "U8",
 "minPixelSize": 0,
 "maxPixelSize": 0,
 "copyrightText": "",
 "serviceDataType": "esriImageServiceDataTypeRGB",
 "serviceSourceType": "esriImageServiceSourceTypeDataset",
 "minValues": [
  0,
  0,
  0
 ],
 "maxValues": [
  255,
  255,
  255
 ],
 "meanValues": [
  63.090201929031,
  60.831019124481,
  56.487251698995
 ],
 "stdvValues": [
  63.389145736435,
  57.553648506467,
  52.394458263719
 ],
 "objectIdField": "",
 "fields": [],
 "capabilities": "Image,Metadata,Mensuration",
 "defaultMosaicMethod": "Center",
 "allowedMosaicMethods": "",
 "sortField": "",
 "sortValue": null,
 "sortAscending": true,
 "mosaicOperator": "First",
 "defaultCompressionQuality": 75,
 "defaultResamplingMethod": "Bilinear",
 "maxImageHeight": 4100,
 "maxImageWidth": 15000,
 "allowRasterFunction": true,
 "rasterFunctionInfos": [
  {
   "name": "None",
   "description": "",
   "help": ""
  }
 ],
 "rasterTypeInfos": [
  {
   "name": "Raster Dataset",
   "description": "Supports all ArcGIS Raster Datasets",
   "help": ""
  }
 ],
 "mensurationCapabilities": "Basic",
 "hasHistograms": true,
 "hasColormap": false,
 "hasRasterAttributeTable": false,
 "minScale": 0,
 "maxScale": 0,
 "exportTilesAllowed": false,
 "supportsStatistics": false,
 "supportsAdvancedQueries": false,
 "editFieldsInfo": null,
 "ownershipBasedAccessControlForRasters": null,
 "allowComputeTiePoints": false,
 "useStandardizedQueries": true,
 "advancedQueryCapabilities": {
  "useStandardizedQueries": true,
  "supportsStatistics": false,
  "supportsOrderBy": false,
  "supportsDistinct": false,
  "supportsPagination": false
 },
 "spatialReference": {
  "wkid": 2150,
  "latestWkid": 2958
 }
}
