{
 "currentVersion": 10.91,
 "serviceDescription": "ORCA/ORCA_2023_SCOOP",
 "name": "ORCA/ORCA_2023_SCOOP",
 "description": "",
 "extent": {
  "xmin": 686999.9376860643,
  "ymin": 4880999.938170798,
  "xmax": 749122.4977439204,
  "ymax": 4944003.458229475,
  "spatialReference": {
   "wkid": 2150,
   "latestWkid": 2958
  }
 },
 "initialExtent": {
  "xmin": 686999.9376860643,
  "ymin": 4880999.938170798,
  "xmax": 749122.4977439204,
  "ymax": 4944003.458229475,
  "spatialReference": {
   "wkid": 2150,
   "latestWkid": 2958
  }
 },
 "fullExtent": {
  "xmin": 686999.9376860643,
  "ymin": 4880999.938170798,
  "xmax": 749122.4977439204,
  "ymax": 4944003.458229475,
  "spatialReference": {
   "wkid": 2150,
   "latestWkid": 2958
  }
 },
 "hasMultidimensions": false,
 "pixelSizeX": 0.1600000001490116,
 "pixelSizeY": 0.1600000001490116,
 "datasetFormat": "TIFF",
 "uncompressedSize": 458664838056,
 "blockWidth": 128,
 "blockHeight": 128,
 "compressionType": "LZW",
 "bandNames": [
  "Band_1",
  "Band_2",
  "Band_3"
 ],
 "allowCopy": true,
 "allowAnalysis": true,
 "bandCount": 3,
 "noDataValue": 256,
 "noDataValues": [
  256,
  256,
  256
 ],
 "pixelType": "U8",
 "minPixelSize": 0,
 "maxPixelSize": 0,
 "copyrightText": "",
 "serviceDataType": "esriImageServiceDataTypeRGB",
 "serviceSourceType": "esriImageServiceSourceTypeDataset",
 "minValues": [
  0,
  0,
  0
 ],
 "maxValues": [
  255,
  255,
  255
 ],
 "meanValues": [
  54.932401717373,
  55.096490887258,
  51.24867720933
 ],
 "stdvValues": [
  57.892944062207,
  54.848080709137,
  49.486184028836
 ],
 "objectIdField": "",
 "fields": [],
 "capabilities": "Image,Metadata,Mensuration",
 "defaultMosaicMethod": "Center",
 "allowedMosaicMethods": "",
 "sortField": "",
 "sortValue": null,
 "sortAscending": true,
 "mosaicOperator": "First",
 "defaultCompressionQuality": 75,
 "defaultResamplingMethod": "Bilinear",
 "maxImageHeight": 4100,
 "maxImageWidth": 15000,
 "allowRasterFunction": true,
 "rasterFunctionInfos": [
  {
   "name": "None",
   "description": "",
   "help": ""
  }
 ],
 "rasterTypeInfos": [
  {
   "name": "Raster Dataset",
   "description": "Supports all ArcGIS Raster Datasets",
   "help": ""
  }
 ],
 "mensurationCapabilities": "Basic",
 "hasHistograms": true,
 "hasColormap": false,
 "hasRasterAttributeTable": false,
 "minScale": 0,
 "maxScale": 0,
 "exportTilesAllowed": false,
 "supportsStatistics": false,
 "supportsAdvancedQueries": false,
 "editFieldsInfo": null,
 "ownershipBasedAccessControlForRasters": null,
 "allowComputeTiePoints": false,
 "useStandardizedQueries": true,
 "advancedQueryCapabilities": {
  "useStandardizedQueries": true,
  "supportsStatistics": false,
  "supportsOrderBy": false,
  "supportsDistinct": false,
  "supportsPagination": false
 },
 "spatialReference": {
  "wkid": 2150,
  "latestWkid": 2958
 }
}
