View In:
ArcGIS JavaScript
ArcGIS Online Map Viewer
ArcGIS Earth
ArcMap
View Footprint In:
ArcGIS Online Map Viewer
Service Description: GRCA/GRCA_SCOOP_2018_Enhanced
Name: GRCA/GRCA_SCOOP_2018_Enhanced
Description:
Single Fused Map Cache: false
Extent:
XMin: 682000.0
YMin: 4862000.0
XMax: 736000.0
YMax: 4896000.0
Spatial Reference: 2150
(2958)
LatestVCSWkid(0)
Initial Extent:
XMin: 682000.0
YMin: 4862000.0
XMax: 736000.0
YMax: 4896000.0
Spatial Reference: 2150
(2958)
LatestVCSWkid(0)
Full Extent:
XMin: 682000.0
YMin: 4862000.0
XMax: 736000.0
YMax: 4896000.0
Spatial Reference: 2150
(2958)
LatestVCSWkid(0)
Pixel Size X: 0.16
Pixel Size Y: 0.16
Band Count: 3
Pixel Type: F32
RasterFunction Infos: {"rasterFunctionInfos": [{
"name": "None",
"description": "",
"help": ""
}]}
Mensuration Capabilities: Basic
Has Histograms: false
Has Colormap: false
Has Multi Dimensions : false
Rendering Rule:
Min Scale: 0
Max Scale: 0
Copyright Text:
Service Data Type: esriImageServiceDataTypeGeneric
Min Values: 0, 0, 0
Max Values: 510000, 2550000, 510000
Mean Values: 199990.87750086, 1090222.8536357, 196152.42019006
Standard Deviation Values: 91041.233294623, 415083.8656714, 75568.860101118
Object ID Field:
Fields:
None
Default Mosaic Method: Center
Allowed Mosaic Methods:
SortField:
SortValue: null
Mosaic Operator: First
Default Compression Quality: 75
Default Resampling Method: Bilinear
Max Record Count: null
Max Image Height: 4100
Max Image Width: 15000
Max Download Image Count: null
Max Mosaic Image Count: null
Allow Raster Function: true
Allow Copy: true
Allow Analysis: true
Allow Compute TiePoints: false
Supports Statistics: false
Supports Advanced Queries: false
Use StandardizedQueries: true
Raster Type Infos:
Name: Raster Dataset
Description: Supports all ArcGIS Raster Datasets
Help:
Has Raster Attribute Table: false
Edit Fields Info: null
Ownership Based AccessControl For Rasters: null
Child Resources:
Info
Statistics
Key Properties
Legend
Raster Function Infos
Supported Operations:
Export Image
Identify
Measure
Compute Histograms
Compute Statistics Histograms
Get Samples
Compute Class Statistics
Query Boundary
Compute Pixel Location
Compute Angles
Validate
Project