View In:
ArcGIS JavaScript
ArcGIS Online Map Viewer
ArcGIS Earth
ArcMap
View Footprint In:
ArcGIS Online Map Viewer
Service Description: ORCA/ORCA_2023_SCOOP
Name: ORCA/ORCA_2023_SCOOP
Description:
Single Fused Map Cache: false
Extent:
XMin: 686999.9376860643
YMin: 4880999.938170798
XMax: 749122.4977439204
YMax: 4944003.458229475
Spatial Reference: 2150
(2958)
LatestVCSWkid(0)
Initial Extent:
XMin: 686999.9376860643
YMin: 4880999.938170798
XMax: 749122.4977439204
YMax: 4944003.458229475
Spatial Reference: 2150
(2958)
LatestVCSWkid(0)
Full Extent:
XMin: 686999.9376860643
YMin: 4880999.938170798
XMax: 749122.4977439204
YMax: 4944003.458229475
Spatial Reference: 2150
(2958)
LatestVCSWkid(0)
Pixel Size X: 0.1600000001490116
Pixel Size Y: 0.1600000001490116
Band Count: 3
Pixel Type: U8
RasterFunction Infos: {"rasterFunctionInfos": [{
"name": "None",
"description": "",
"help": ""
}]}
Mensuration Capabilities: Basic
Has Histograms: true
Has Colormap: false
Has Multi Dimensions : false
Rendering Rule:
Min Scale: 0
Max Scale: 0
Copyright Text:
Service Data Type: esriImageServiceDataTypeRGB
Min Values: 0, 0, 0
Max Values: 255, 255, 255
Mean Values: 54.932401717373, 55.096490887258, 51.24867720933
Standard Deviation Values: 57.892944062207, 54.848080709137, 49.486184028836
Object ID Field:
Fields:
None
Default Mosaic Method: Center
Allowed Mosaic Methods:
SortField:
SortValue: null
Mosaic Operator: First
Default Compression Quality: 75
Default Resampling Method: Bilinear
Max Record Count: null
Max Image Height: 4100
Max Image Width: 15000
Max Download Image Count: null
Max Mosaic Image Count: null
Allow Raster Function: true
Allow Copy: true
Allow Analysis: true
Allow Compute TiePoints: false
Supports Statistics: false
Supports Advanced Queries: false
Use StandardizedQueries: true
Raster Type Infos:
Name: Raster Dataset
Description: Supports all ArcGIS Raster Datasets
Help:
Has Raster Attribute Table: false
Edit Fields Info: null
Ownership Based AccessControl For Rasters: null
Child Resources:
Info
Histograms
Statistics
Key Properties
Legend
Raster Function Infos
Supported Operations:
Export Image
Identify
Measure
Compute Histograms
Compute Statistics Histograms
Get Samples
Compute Class Statistics
Query Boundary
Compute Pixel Location
Compute Angles
Validate
Project